BEGIN:VCALENDAR
VERSION:2.0
PRODID:-//France Star Class - ECPv6.15.20//NONSGML v1.0//EN
CALSCALE:GREGORIAN
METHOD:PUBLISH
X-WR-CALNAME:France Star Class
X-ORIGINAL-URL:https://francestarclass.com
X-WR-CALDESC:Évènements pour France Star Class
REFRESH-INTERVAL;VALUE=DURATION:PT1H
X-Robots-Tag:noindex
X-PUBLISHED-TTL:PT1H
BEGIN:VTIMEZONE
TZID:Europe/Paris
BEGIN:DAYLIGHT
TZOFFSETFROM:+0100
TZOFFSETTO:+0200
TZNAME:CEST
DTSTART:20250330T010000
END:DAYLIGHT
BEGIN:STANDARD
TZOFFSETFROM:+0200
TZOFFSETTO:+0100
TZNAME:CET
DTSTART:20251026T010000
END:STANDARD
BEGIN:DAYLIGHT
TZOFFSETFROM:+0100
TZOFFSETTO:+0200
TZNAME:CEST
DTSTART:20260329T010000
END:DAYLIGHT
BEGIN:STANDARD
TZOFFSETFROM:+0200
TZOFFSETTO:+0100
TZNAME:CET
DTSTART:20261025T010000
END:STANDARD
BEGIN:DAYLIGHT
TZOFFSETFROM:+0100
TZOFFSETTO:+0200
TZNAME:CEST
DTSTART:20270328T010000
END:DAYLIGHT
BEGIN:STANDARD
TZOFFSETFROM:+0200
TZOFFSETTO:+0100
TZNAME:CET
DTSTART:20271031T010000
END:STANDARD
END:VTIMEZONE
BEGIN:VEVENT
DTSTART;VALUE=DATE:20260425
DTEND;VALUE=DATE:20260426
DTSTAMP:20260421T132630
CREATED:20260119T153630Z
LAST-MODIFIED:20260119T153630Z
UID:5958-1777075200-1777161599@francestarclass.com
SUMMARY:Starmania
DESCRIPTION:
URL:https://francestarclass.com/evenement/starmania/
LOCATION:Yacht Club de l’Ile de France\, 23 Chemin Du Rouillard\, LES MUREAUX\, 78130\, France
ORGANIZER;CN="Flotte d'Ile de France":MAILTO:philippe@courteaud.net
END:VEVENT
END:VCALENDAR