BEGIN:VCALENDAR
VERSION:2.0
PRODID:-//France Star Class - ECPv6.15.20//NONSGML v1.0//EN
CALSCALE:GREGORIAN
METHOD:PUBLISH
X-WR-CALNAME:France Star Class
X-ORIGINAL-URL:https://francestarclass.com
X-WR-CALDESC:Évènements pour France Star Class
REFRESH-INTERVAL;VALUE=DURATION:PT1H
X-Robots-Tag:noindex
X-PUBLISHED-TTL:PT1H
BEGIN:VTIMEZONE
TZID:Europe/Paris
BEGIN:DAYLIGHT
TZOFFSETFROM:+0100
TZOFFSETTO:+0200
TZNAME:CEST
DTSTART:20250330T010000
END:DAYLIGHT
BEGIN:STANDARD
TZOFFSETFROM:+0200
TZOFFSETTO:+0100
TZNAME:CET
DTSTART:20251026T010000
END:STANDARD
BEGIN:DAYLIGHT
TZOFFSETFROM:+0100
TZOFFSETTO:+0200
TZNAME:CEST
DTSTART:20260329T010000
END:DAYLIGHT
BEGIN:STANDARD
TZOFFSETFROM:+0200
TZOFFSETTO:+0100
TZNAME:CET
DTSTART:20261025T010000
END:STANDARD
BEGIN:DAYLIGHT
TZOFFSETFROM:+0100
TZOFFSETTO:+0200
TZNAME:CEST
DTSTART:20270328T010000
END:DAYLIGHT
BEGIN:STANDARD
TZOFFSETFROM:+0200
TZOFFSETTO:+0100
TZNAME:CET
DTSTART:20271031T010000
END:STANDARD
END:VTIMEZONE
BEGIN:VEVENT
DTSTART;VALUE=DATE:20261213
DTEND;VALUE=DATE:20261214
DTSTAMP:20260422T033016
CREATED:20260106T115527Z
LAST-MODIFIED:20260106T115527Z
UID:5894-1797120000-1797206399@francestarclass.com
SUMMARY:Xmas warm-up
DESCRIPTION:
URL:https://francestarclass.com/evenement/xmas-warm-up/
LOCATION:Club nautique de Nice\, 50 bd Franck Pilatte\, Nice\, 06300\, France
ORGANIZER;CN="Flotte de Nice":MAILTO:secretary.nice.starfleet@sfr.fr
END:VEVENT
BEGIN:VEVENT
DTSTART;VALUE=DATE:20261227
DTEND;VALUE=DATE:20261231
DTSTAMP:20260422T033016
CREATED:20260106T115632Z
LAST-MODIFIED:20260106T115632Z
UID:5896-1798329600-1798675199@francestarclass.com
SUMMARY:Christmas regatta de Nice
DESCRIPTION:
URL:https://francestarclass.com/evenement/christmas-regatta-de-nice/
LOCATION:Club nautique de Nice\, 50 bd Franck Pilatte\, Nice\, 06300\, France
ORGANIZER;CN="Flotte de Nice":MAILTO:secretary.nice.starfleet@sfr.fr
END:VEVENT
END:VCALENDAR