BEGIN:VCALENDAR
VERSION:2.0
PRODID:-//France Star Class - ECPv6.15.20//NONSGML v1.0//EN
CALSCALE:GREGORIAN
METHOD:PUBLISH
X-WR-CALNAME:France Star Class
X-ORIGINAL-URL:https://francestarclass.com
X-WR-CALDESC:Évènements pour France Star Class
REFRESH-INTERVAL;VALUE=DURATION:PT1H
X-Robots-Tag:noindex
X-PUBLISHED-TTL:PT1H
BEGIN:VTIMEZONE
TZID:Europe/Paris
BEGIN:DAYLIGHT
TZOFFSETFROM:+0100
TZOFFSETTO:+0200
TZNAME:CEST
DTSTART:20250330T010000
END:DAYLIGHT
BEGIN:STANDARD
TZOFFSETFROM:+0200
TZOFFSETTO:+0100
TZNAME:CET
DTSTART:20251026T010000
END:STANDARD
BEGIN:DAYLIGHT
TZOFFSETFROM:+0100
TZOFFSETTO:+0200
TZNAME:CEST
DTSTART:20260329T010000
END:DAYLIGHT
BEGIN:STANDARD
TZOFFSETFROM:+0200
TZOFFSETTO:+0100
TZNAME:CET
DTSTART:20261025T010000
END:STANDARD
BEGIN:DAYLIGHT
TZOFFSETFROM:+0100
TZOFFSETTO:+0200
TZNAME:CEST
DTSTART:20270328T010000
END:DAYLIGHT
BEGIN:STANDARD
TZOFFSETFROM:+0200
TZOFFSETTO:+0100
TZNAME:CET
DTSTART:20271031T010000
END:STANDARD
END:VTIMEZONE
BEGIN:VEVENT
DTSTART;VALUE=DATE:20260815
DTEND;VALUE=DATE:20260817
DTSTAMP:20260421T200616
CREATED:20260106T174047Z
LAST-MODIFIED:20260106T174047Z
UID:5952-1786752000-1786924799@francestarclass.com
SUMMARY:Centre Lac
DESCRIPTION:
URL:https://francestarclass.com/evenement/centre-lac-2/
LOCATION:Société des Régates à Voile d’Annecy\, 31 rue de Marquisats\, Annecy\, 74600\, France
ORGANIZER;CN="Flotte de Savoie":MAILTO:jeanlucchaboud@gmail.com
END:VEVENT
BEGIN:VEVENT
DTSTART;VALUE=DATE:20260824
DTEND;VALUE=DATE:20260830
DTSTAMP:20260421T200616
CREATED:20260106T122712Z
LAST-MODIFIED:20260106T122712Z
UID:5933-1787529600-1788047999@francestarclass.com
SUMMARY:European Championship
DESCRIPTION:
URL:https://francestarclass.com/evenement/european-championship/
LOCATION:Medemblik – NL
END:VEVENT
BEGIN:VEVENT
DTSTART;VALUE=DATE:20260830
DTEND;VALUE=DATE:20260831
DTSTAMP:20260421T200616
CREATED:20260106T115239Z
LAST-MODIFIED:20260106T115239Z
UID:5885-1788048000-1788134399@francestarclass.com
SUMMARY:Dr Evil
DESCRIPTION:
URL:https://francestarclass.com/evenement/dr-evil/
LOCATION:Club nautique de Nice\, 50 bd Franck Pilatte\, Nice\, 06300\, France
ORGANIZER;CN="Flotte de Nice":MAILTO:secretary.nice.starfleet@sfr.fr
END:VEVENT
END:VCALENDAR