BEGIN:VCALENDAR
VERSION:2.0
PRODID:-//France Star Class - ECPv6.15.20//NONSGML v1.0//EN
CALSCALE:GREGORIAN
METHOD:PUBLISH
X-WR-CALNAME:France Star Class
X-ORIGINAL-URL:https://francestarclass.com
X-WR-CALDESC:Évènements pour France Star Class
REFRESH-INTERVAL;VALUE=DURATION:PT1H
X-Robots-Tag:noindex
X-PUBLISHED-TTL:PT1H
BEGIN:VTIMEZONE
TZID:Europe/Paris
BEGIN:DAYLIGHT
TZOFFSETFROM:+0100
TZOFFSETTO:+0200
TZNAME:CEST
DTSTART:20250330T010000
END:DAYLIGHT
BEGIN:STANDARD
TZOFFSETFROM:+0200
TZOFFSETTO:+0100
TZNAME:CET
DTSTART:20251026T010000
END:STANDARD
BEGIN:DAYLIGHT
TZOFFSETFROM:+0100
TZOFFSETTO:+0200
TZNAME:CEST
DTSTART:20260329T010000
END:DAYLIGHT
BEGIN:STANDARD
TZOFFSETFROM:+0200
TZOFFSETTO:+0100
TZNAME:CET
DTSTART:20261025T010000
END:STANDARD
BEGIN:DAYLIGHT
TZOFFSETFROM:+0100
TZOFFSETTO:+0200
TZNAME:CEST
DTSTART:20270328T010000
END:DAYLIGHT
BEGIN:STANDARD
TZOFFSETFROM:+0200
TZOFFSETTO:+0100
TZNAME:CET
DTSTART:20271031T010000
END:STANDARD
END:VTIMEZONE
BEGIN:VEVENT
DTSTART;VALUE=DATE:20260301
DTEND;VALUE=DATE:20260308
DTSTAMP:20260421T145614
CREATED:20260106T122353Z
LAST-MODIFIED:20260106T122456Z
UID:5927-1772323200-1772927999@francestarclass.com
SUMMARY:Bacardi Cup
DESCRIPTION:
URL:https://francestarclass.com/evenement/bacardi-cup/
LOCATION:Miami – USA
END:VEVENT
BEGIN:VEVENT
DTSTART;VALUE=DATE:20260308
DTEND;VALUE=DATE:20260309
DTSTAMP:20260421T145614
CREATED:20260106T114821Z
LAST-MODIFIED:20260106T114821Z
UID:5874-1772928000-1773014399@francestarclass.com
SUMMARY:Acciuga
DESCRIPTION:
URL:https://francestarclass.com/evenement/acciuga/
LOCATION:Club nautique de Nice\, 50 bd Franck Pilatte\, Nice\, 06300\, France
ORGANIZER;CN="Flotte de Nice":MAILTO:secretary.nice.starfleet@sfr.fr
END:VEVENT
END:VCALENDAR