BEGIN:VCALENDAR
VERSION:2.0
PRODID:-//France Star Class - ECPv6.15.20//NONSGML v1.0//EN
CALSCALE:GREGORIAN
METHOD:PUBLISH
X-WR-CALNAME:France Star Class
X-ORIGINAL-URL:https://francestarclass.com
X-WR-CALDESC:Évènements pour France Star Class
REFRESH-INTERVAL;VALUE=DURATION:PT1H
X-Robots-Tag:noindex
X-PUBLISHED-TTL:PT1H
BEGIN:VTIMEZONE
TZID:Europe/Paris
BEGIN:DAYLIGHT
TZOFFSETFROM:+0100
TZOFFSETTO:+0200
TZNAME:CEST
DTSTART:20240331T010000
END:DAYLIGHT
BEGIN:STANDARD
TZOFFSETFROM:+0200
TZOFFSETTO:+0100
TZNAME:CET
DTSTART:20241027T010000
END:STANDARD
BEGIN:DAYLIGHT
TZOFFSETFROM:+0100
TZOFFSETTO:+0200
TZNAME:CEST
DTSTART:20250330T010000
END:DAYLIGHT
BEGIN:STANDARD
TZOFFSETFROM:+0200
TZOFFSETTO:+0100
TZNAME:CET
DTSTART:20251026T010000
END:STANDARD
BEGIN:DAYLIGHT
TZOFFSETFROM:+0100
TZOFFSETTO:+0200
TZNAME:CEST
DTSTART:20260329T010000
END:DAYLIGHT
BEGIN:STANDARD
TZOFFSETFROM:+0200
TZOFFSETTO:+0100
TZNAME:CET
DTSTART:20261025T010000
END:STANDARD
END:VTIMEZONE
BEGIN:VEVENT
DTSTART;VALUE=DATE:20251031
DTEND;VALUE=DATE:20251103
DTSTAMP:20260421T222443
CREATED:20250204T185117Z
LAST-MODIFIED:20250304T110225Z
UID:5483-1761868800-1762127999@francestarclass.com
SUMMARY:44° Trophée Conill
DESCRIPTION:
URL:https://francestarclass.com/evenement/44-trophee-conill/
LOCATION:Cercle de la Voile de Paris\, 30 rue Albert Glandaz\, Les Mureaux\, 78130\, France
ORGANIZER;CN="Flotte de Paris":MAILTO:tdb@declictraining.com
END:VEVENT
BEGIN:VEVENT
DTSTART;VALUE=DATE:20251109
DTEND;VALUE=DATE:20251110
DTSTAMP:20260421T222443
CREATED:20250204T185228Z
LAST-MODIFIED:20250304T110216Z
UID:5485-1762646400-1762732799@francestarclass.com
SUMMARY:Coupe JJ Herbulot
DESCRIPTION:
URL:https://francestarclass.com/evenement/coupe-jj-herbulot/
LOCATION:Cercle de la Voile de Paris\, 30 rue Albert Glandaz\, Les Mureaux\, 78130\, France
ORGANIZER;CN="Flotte de Paris":MAILTO:tdb@declictraining.com
END:VEVENT
BEGIN:VEVENT
DTSTART;VALUE=DATE:20251116
DTEND;VALUE=DATE:20251117
DTSTAMP:20260421T222443
CREATED:20250204T185322Z
LAST-MODIFIED:20250304T190445Z
UID:5487-1763251200-1763337599@francestarclass.com
SUMMARY:Régate ASTERIA 4
DESCRIPTION:
URL:https://francestarclass.com/evenement/les-regates-de-nice-10/
LOCATION:Club nautique de Nice\, 50 bd Franck Pilatte\, Nice\, 06300\, France
ORGANIZER;CN="Flotte de Nice":MAILTO:secretary.nice.starfleet@sfr.fr
END:VEVENT
BEGIN:VEVENT
DTSTART;VALUE=DATE:20251116
DTEND;VALUE=DATE:20251117
DTSTAMP:20260421T222443
CREATED:20250204T185355Z
LAST-MODIFIED:20250304T110137Z
UID:5489-1763251200-1763337599@francestarclass.com
SUMMARY:Coupe du vin chaud
DESCRIPTION:
URL:https://francestarclass.com/evenement/coupe-du-vin-chaud/
LOCATION:Cercle de la Voile de Paris\, 30 rue Albert Glandaz\, Les Mureaux\, 78130\, France
ORGANIZER;CN="Flotte de Paris":MAILTO:tdb@declictraining.com
END:VEVENT
BEGIN:VEVENT
DTSTART;VALUE=DATE:20251123
DTEND;VALUE=DATE:20251124
DTSTAMP:20260421T222443
CREATED:20250202T110319Z
LAST-MODIFIED:20250304T110125Z
UID:5112-1763856000-1763942399@francestarclass.com
SUMMARY:La Der des Der
DESCRIPTION:
URL:https://francestarclass.com/evenement/der-des-der-cvparis-78/
LOCATION:Cercle de la Voile de Paris\, 30 rue Albert Glandaz\, Les Mureaux\, 78130\, France
ORGANIZER;CN="Flotte de Paris":MAILTO:tdb@declictraining.com
END:VEVENT
END:VCALENDAR