BEGIN:VCALENDAR
VERSION:2.0
PRODID:-//France Star Class - ECPv6.15.20//NONSGML v1.0//EN
CALSCALE:GREGORIAN
METHOD:PUBLISH
X-ORIGINAL-URL:https://francestarclass.com
X-WR-CALDESC:Évènements pour France Star Class
REFRESH-INTERVAL;VALUE=DURATION:PT1H
X-Robots-Tag:noindex
X-PUBLISHED-TTL:PT1H
BEGIN:VTIMEZONE
TZID:Europe/Paris
BEGIN:DAYLIGHT
TZOFFSETFROM:+0100
TZOFFSETTO:+0200
TZNAME:CEST
DTSTART:20240331T010000
END:DAYLIGHT
BEGIN:STANDARD
TZOFFSETFROM:+0200
TZOFFSETTO:+0100
TZNAME:CET
DTSTART:20241027T010000
END:STANDARD
BEGIN:DAYLIGHT
TZOFFSETFROM:+0100
TZOFFSETTO:+0200
TZNAME:CEST
DTSTART:20250330T010000
END:DAYLIGHT
BEGIN:STANDARD
TZOFFSETFROM:+0200
TZOFFSETTO:+0100
TZNAME:CET
DTSTART:20251026T010000
END:STANDARD
BEGIN:DAYLIGHT
TZOFFSETFROM:+0100
TZOFFSETTO:+0200
TZNAME:CEST
DTSTART:20260329T010000
END:DAYLIGHT
BEGIN:STANDARD
TZOFFSETFROM:+0200
TZOFFSETTO:+0100
TZNAME:CET
DTSTART:20261025T010000
END:STANDARD
END:VTIMEZONE
BEGIN:VEVENT
DTSTART;VALUE=DATE:20251012
DTEND;VALUE=DATE:20251013
DTSTAMP:20260422T002910
CREATED:20250204T184750Z
LAST-MODIFIED:20250304T110318Z
UID:5475-1760227200-1760313599@francestarclass.com
SUMMARY:Paris Breizh Cup
DESCRIPTION:
URL:https://francestarclass.com/evenement/paris-breizh-cup/
LOCATION:Cercle de la Voile de Paris\, 30 rue Albert Glandaz\, Les Mureaux\, 78130\, France
ORGANIZER;CN="Flotte de Paris":MAILTO:tdb@declictraining.com
END:VEVENT
BEGIN:VEVENT
DTSTART;VALUE=DATE:20251012
DTEND;VALUE=DATE:20251013
DTSTAMP:20260422T002910
CREATED:20250204T184827Z
LAST-MODIFIED:20250304T190412Z
UID:5477-1760227200-1760313599@francestarclass.com
SUMMARY:Régate d’Automne
DESCRIPTION:
URL:https://francestarclass.com/evenement/les-regates-de-nice-9/
LOCATION:Club nautique de Nice\, 50 bd Franck Pilatte\, Nice\, 06300\, France
ORGANIZER;CN="Flotte de Nice":MAILTO:secretary.nice.starfleet@sfr.fr
END:VEVENT
BEGIN:VEVENT
DTSTART;VALUE=DATE:20251019
DTEND;VALUE=DATE:20251020
DTSTAMP:20260422T002910
CREATED:20250204T184912Z
LAST-MODIFIED:20250304T110252Z
UID:5479-1760832000-1760918399@francestarclass.com
SUMMARY:Coupe la licorne
DESCRIPTION:
URL:https://francestarclass.com/evenement/coupe-la-licorne/
LOCATION:Cercle de la Voile de Paris\, 30 rue Albert Glandaz\, Les Mureaux\, 78130\, France
ORGANIZER;CN="Flotte de Paris":MAILTO:tdb@declictraining.com
END:VEVENT
BEGIN:VEVENT
DTSTART;VALUE=DATE:20251026
DTEND;VALUE=DATE:20251027
DTSTAMP:20260422T002910
CREATED:20250204T184952Z
LAST-MODIFIED:20250304T110238Z
UID:5481-1761436800-1761523199@francestarclass.com
SUMMARY:Coupe Abracadabra
DESCRIPTION:
URL:https://francestarclass.com/evenement/coupe-abracadabra/
LOCATION:Cercle de la Voile de Paris\, 30 rue Albert Glandaz\, Les Mureaux\, 78130\, France
ORGANIZER;CN="Flotte de Paris":MAILTO:tdb@declictraining.com
END:VEVENT
BEGIN:VEVENT
DTSTART;VALUE=DATE:20251031
DTEND;VALUE=DATE:20251103
DTSTAMP:20260422T002910
CREATED:20250204T185117Z
LAST-MODIFIED:20250304T110225Z
UID:5483-1761868800-1762127999@francestarclass.com
SUMMARY:44° Trophée Conill
DESCRIPTION:
URL:https://francestarclass.com/evenement/44-trophee-conill/
LOCATION:Cercle de la Voile de Paris\, 30 rue Albert Glandaz\, Les Mureaux\, 78130\, France
ORGANIZER;CN="Flotte de Paris":MAILTO:tdb@declictraining.com
END:VEVENT
END:VCALENDAR