BEGIN:VCALENDAR
VERSION:2.0
PRODID:-//France Star Class - ECPv6.15.20//NONSGML v1.0//EN
CALSCALE:GREGORIAN
METHOD:PUBLISH
X-ORIGINAL-URL:https://francestarclass.com
X-WR-CALDESC:Évènements pour France Star Class
REFRESH-INTERVAL;VALUE=DURATION:PT1H
X-Robots-Tag:noindex
X-PUBLISHED-TTL:PT1H
BEGIN:VTIMEZONE
TZID:Europe/Paris
BEGIN:DAYLIGHT
TZOFFSETFROM:+0100
TZOFFSETTO:+0200
TZNAME:CEST
DTSTART:20240331T010000
END:DAYLIGHT
BEGIN:STANDARD
TZOFFSETFROM:+0200
TZOFFSETTO:+0100
TZNAME:CET
DTSTART:20241027T010000
END:STANDARD
BEGIN:DAYLIGHT
TZOFFSETFROM:+0100
TZOFFSETTO:+0200
TZNAME:CEST
DTSTART:20250330T010000
END:DAYLIGHT
BEGIN:STANDARD
TZOFFSETFROM:+0200
TZOFFSETTO:+0100
TZNAME:CET
DTSTART:20251026T010000
END:STANDARD
BEGIN:DAYLIGHT
TZOFFSETFROM:+0100
TZOFFSETTO:+0200
TZNAME:CEST
DTSTART:20260329T010000
END:DAYLIGHT
BEGIN:STANDARD
TZOFFSETFROM:+0200
TZOFFSETTO:+0100
TZNAME:CET
DTSTART:20261025T010000
END:STANDARD
END:VTIMEZONE
BEGIN:VEVENT
DTSTART;VALUE=DATE:20250905
DTEND;VALUE=DATE:20250914
DTSTAMP:20260422T021536
CREATED:20250305T080645Z
LAST-MODIFIED:20250305T080645Z
UID:5823-1757030400-1757807999@francestarclass.com
SUMMARY:Championnat du monde
DESCRIPTION:
URL:https://francestarclass.com/evenement/championnat-du-monde/
LOCATION:Split – Croatie\, Croatia (Local Name: Hrvatska)
END:VEVENT
BEGIN:VEVENT
DTSTART;VALUE=DATE:20250907
DTEND;VALUE=DATE:20250908
DTSTAMP:20260422T021536
CREATED:20250204T184455Z
LAST-MODIFIED:20250304T110400Z
UID:5467-1757203200-1757289599@francestarclass.com
SUMMARY:Coupe la fille du vent
DESCRIPTION:
URL:https://francestarclass.com/evenement/coupe-la-fille-du-vent/
LOCATION:Cercle de la Voile de Paris\, 30 rue Albert Glandaz\, Les Mureaux\, 78130\, France
ORGANIZER;CN="Flotte de Paris":MAILTO:tdb@declictraining.com
END:VEVENT
BEGIN:VEVENT
DTSTART;VALUE=DATE:20250914
DTEND;VALUE=DATE:20250915
DTSTAMP:20260422T021536
CREATED:20250204T184532Z
LAST-MODIFIED:20250304T110343Z
UID:5469-1757808000-1757894399@francestarclass.com
SUMMARY:Coupe Jean Peytel
DESCRIPTION:
URL:https://francestarclass.com/evenement/coupe-jean-peytel/
LOCATION:Cercle de la Voile de Paris\, 30 rue Albert Glandaz\, Les Mureaux\, 78130\, France
ORGANIZER;CN="Flotte de Paris":MAILTO:tdb@declictraining.com
END:VEVENT
BEGIN:VEVENT
DTSTART;VALUE=DATE:20250928
DTEND;VALUE=DATE:20250929
DTSTAMP:20260422T021536
CREATED:20250204T184606Z
LAST-MODIFIED:20250304T190343Z
UID:5471-1759017600-1759103999@francestarclass.com
SUMMARY:Régate UPSTAR
DESCRIPTION:
URL:https://francestarclass.com/evenement/les-regates-de-nice-8/
LOCATION:Club nautique de Nice\, 50 bd Franck Pilatte\, Nice\, 06300\, France
ORGANIZER;CN="Flotte de Nice":MAILTO:secretary.nice.starfleet@sfr.fr
END:VEVENT
BEGIN:VEVENT
DTSTART;VALUE=DATE:20250928
DTEND;VALUE=DATE:20250929
DTSTAMP:20260422T021536
CREATED:20250204T184653Z
LAST-MODIFIED:20250304T110326Z
UID:5473-1759017600-1759103999@francestarclass.com
SUMMARY:Trophée de Paris
DESCRIPTION:
URL:https://francestarclass.com/evenement/trophee-de-paris/
LOCATION:Cercle de la Voile de Paris\, 30 rue Albert Glandaz\, Les Mureaux\, 78130\, France
ORGANIZER;CN="Flotte de Paris":MAILTO:tdb@declictraining.com
END:VEVENT
END:VCALENDAR