BEGIN:VCALENDAR
VERSION:2.0
PRODID:-//France Star Class - ECPv6.15.20//NONSGML v1.0//EN
CALSCALE:GREGORIAN
METHOD:PUBLISH
X-ORIGINAL-URL:https://francestarclass.com
X-WR-CALDESC:Évènements pour France Star Class
REFRESH-INTERVAL;VALUE=DURATION:PT1H
X-Robots-Tag:noindex
X-PUBLISHED-TTL:PT1H
BEGIN:VTIMEZONE
TZID:Europe/Paris
BEGIN:DAYLIGHT
TZOFFSETFROM:+0100
TZOFFSETTO:+0200
TZNAME:CEST
DTSTART:20240331T010000
END:DAYLIGHT
BEGIN:STANDARD
TZOFFSETFROM:+0200
TZOFFSETTO:+0100
TZNAME:CET
DTSTART:20241027T010000
END:STANDARD
BEGIN:DAYLIGHT
TZOFFSETFROM:+0100
TZOFFSETTO:+0200
TZNAME:CEST
DTSTART:20250330T010000
END:DAYLIGHT
BEGIN:STANDARD
TZOFFSETFROM:+0200
TZOFFSETTO:+0100
TZNAME:CET
DTSTART:20251026T010000
END:STANDARD
BEGIN:DAYLIGHT
TZOFFSETFROM:+0100
TZOFFSETTO:+0200
TZNAME:CEST
DTSTART:20260329T010000
END:DAYLIGHT
BEGIN:STANDARD
TZOFFSETFROM:+0200
TZOFFSETTO:+0100
TZNAME:CET
DTSTART:20261025T010000
END:STANDARD
END:VTIMEZONE
BEGIN:VEVENT
DTSTART;VALUE=DATE:20250815
DTEND;VALUE=DATE:20250816
DTSTAMP:20260422T040907
CREATED:20250204T184222Z
LAST-MODIFIED:20250304T110436Z
UID:5461-1755216000-1755302399@francestarclass.com
SUMMARY:Centre Lac
DESCRIPTION:
URL:https://francestarclass.com/evenement/centre-lac/
LOCATION:Société des Régates à Voile d’Annecy\, 31 rue de Marquisats\, Annecy\, 74600\, France
ORGANIZER;CN="Flotte de Savoie":MAILTO:jeanlucchaboud@gmail.com
END:VEVENT
BEGIN:VEVENT
DTSTART;VALUE=DATE:20250831
DTEND;VALUE=DATE:20250901
DTSTAMP:20260422T040907
CREATED:20250204T184303Z
LAST-MODIFIED:20250304T110425Z
UID:5463-1756598400-1756684799@francestarclass.com
SUMMARY:Régate de la rentrée
DESCRIPTION:
URL:https://francestarclass.com/evenement/regate-de-la-rentree/
LOCATION:Cercle de la Voile de Paris\, 30 rue Albert Glandaz\, Les Mureaux\, 78130\, France
ORGANIZER;CN="Flotte de Paris":MAILTO:tdb@declictraining.com
END:VEVENT
BEGIN:VEVENT
DTSTART;VALUE=DATE:20250831
DTEND;VALUE=DATE:20250901
DTSTAMP:20260422T040907
CREATED:20250204T184340Z
LAST-MODIFIED:20250304T190249Z
UID:5465-1756598400-1756684799@francestarclass.com
SUMMARY:Régate Dr EVIL
DESCRIPTION:
URL:https://francestarclass.com/evenement/les-regates-de-nice-7/
LOCATION:Club nautique de Nice\, 50 bd Franck Pilatte\, Nice\, 06300\, France
ORGANIZER;CN="Flotte de Nice":MAILTO:secretary.nice.starfleet@sfr.fr
END:VEVENT
END:VCALENDAR